BEGIN:VCALENDAR
VERSION:2.0
PRODID:-//AVRM - ECPv6.15.18//NONSGML v1.0//EN
CALSCALE:GREGORIAN
METHOD:PUBLISH
X-WR-CALNAME:AVRM
X-ORIGINAL-URL:https://avmuseum.org
X-WR-CALDESC:Events for AVRM
REFRESH-INTERVAL;VALUE=DURATION:PT1H
X-Robots-Tag:noindex
X-PUBLISHED-TTL:PT1H
BEGIN:VTIMEZONE
TZID:America/Los_Angeles
BEGIN:DAYLIGHT
TZOFFSETFROM:-0800
TZOFFSETTO:-0700
TZNAME:PDT
DTSTART:20210314T100000
END:DAYLIGHT
BEGIN:STANDARD
TZOFFSETFROM:-0700
TZOFFSETTO:-0800
TZNAME:PST
DTSTART:20211107T090000
END:STANDARD
BEGIN:DAYLIGHT
TZOFFSETFROM:-0800
TZOFFSETTO:-0700
TZNAME:PDT
DTSTART:20220313T100000
END:DAYLIGHT
BEGIN:STANDARD
TZOFFSETFROM:-0700
TZOFFSETTO:-0800
TZNAME:PST
DTSTART:20221106T090000
END:STANDARD
BEGIN:DAYLIGHT
TZOFFSETFROM:-0800
TZOFFSETTO:-0700
TZNAME:PDT
DTSTART:20230312T100000
END:DAYLIGHT
BEGIN:STANDARD
TZOFFSETFROM:-0700
TZOFFSETTO:-0800
TZNAME:PST
DTSTART:20231105T090000
END:STANDARD
BEGIN:DAYLIGHT
TZOFFSETFROM:-0800
TZOFFSETTO:-0700
TZNAME:PDT
DTSTART:20240310T100000
END:DAYLIGHT
BEGIN:STANDARD
TZOFFSETFROM:-0700
TZOFFSETTO:-0800
TZNAME:PST
DTSTART:20241103T090000
END:STANDARD
BEGIN:DAYLIGHT
TZOFFSETFROM:-0800
TZOFFSETTO:-0700
TZNAME:PDT
DTSTART:20250309T100000
END:DAYLIGHT
BEGIN:STANDARD
TZOFFSETFROM:-0700
TZOFFSETTO:-0800
TZNAME:PST
DTSTART:20251102T090000
END:STANDARD
BEGIN:DAYLIGHT
TZOFFSETFROM:-0800
TZOFFSETTO:-0700
TZNAME:PDT
DTSTART:20260308T100000
END:DAYLIGHT
BEGIN:STANDARD
TZOFFSETFROM:-0700
TZOFFSETTO:-0800
TZNAME:PST
DTSTART:20261101T090000
END:STANDARD
END:VTIMEZONE
BEGIN:VEVENT
DTSTART;TZID=America/Los_Angeles:20250301T080000
DTEND;TZID=America/Los_Angeles:20250301T100000
DTSTAMP:20260424T185325
CREATED:20250117T011515Z
LAST-MODIFIED:20250117T132017Z
UID:9679-1740816000-1740823200@avmuseum.org
SUMMARY:6th Annual AV Rural Museum Flapjack Fundraiser
DESCRIPTION:Saturday\, March 1  |  8 – 10 am\nLancaster Applebee’s\n43545 10th Street West \n$12 preorder\nor $15 at the door \nBreakfast includes pancakes\, syrup\, butter\, scrambled eggs\, sausage\, orange juice\, and coffee. \nTickets $12 – Buy Now >\n/ / / TICKET PREORDER PAYMENT OPTIONS:\n• Click the button above to preorder by (PayPal or credit card):\n• Purchase tickets from any AVRM Board Member\n• On our website through general donations: avmuseum.org/donations\n*Be sure to write “Flapjack Fundraiser” with your name in the comments box.\n• Email avmuseum@verizon.net\n• Text 661-478-4841 \nTickets will be held at the door. See you there!\nThank you from your Museum Board
URL:https://avmuseum.org/event/6th-annual-av-rural-museum-flapjack-fundraiser/
LOCATION:Lancaster Applebee’s\, 43545 10th Street West\, Lancaster\, 93534\, United States
CATEGORIES:AVRM
ATTACH;FMTTYPE=image/jpeg:https://avmuseum.org/wp-content/uploads/2025/01/2025-FF-flyer.jpg
ORGANIZER;CN="AVRM":MAILTO:avmuseum@verizon.net
END:VEVENT
BEGIN:VEVENT
DTSTART;TZID=America/Los_Angeles:20240620T070000
DTEND;TZID=America/Los_Angeles:20240620T200000
DTSTAMP:20260424T185325
CREATED:20240608T193827Z
LAST-MODIFIED:20240611T144205Z
UID:9612-1718866800-1718913600@avmuseum.org
SUMMARY:Speaker Series |  Transition to ZERO-EMISSION Rail Transportation Powered by Hydrogen Fuel Cell
DESCRIPTION:The 6th in the Antelope Valley Rural Museum’s Speaker Series.\nTransition to ZERO-EMISSION Rail Transportation Powered by Hydrogen Fuel Cell\nPresented by Gordon V. Jefferson\nMuseum open : 6:00 pm – 9:00 pm\nLecture begins : 7:00 pm \nGordon Jefferson will join the Antelope Valley Rural Museum for an evening of photos\, videos and discussion on the history and the future of Hydrogen Fuel Cell (HFC) power\, especially as it applies to railroading. In the mid 1970’s\, while employed as an Electronic Engineer at NASA’s Jet Propulsion LAB in Pasadena\, CA\, Gordon was a member of the Mariner spacecraft design team.  Mariner is the 1st craft sent to MARS.  Gordon was a leader of the team that designed and implemented the craft’s electrical power system using HFC technologies.  Today he is a Founding Member of the Hydrogen Fuel Cell Train Association. www.hfcta.org. \n**RSVP**\nLimited seating – RSVP to:\navmuseum@verizon.net or text to 661-478-4841\nParking and Admission is free. Donations are Welcome.
URL:https://avmuseum.org/event/speaker-series-transition-to-zero-emission-rail-transportation-powered-by-hydrogen-fuel-cell/
LOCATION:AVRM @ AV Fairgrounds\, Lancaster\, CA\, United States
CATEGORIES:Speaker Series
ATTACH;FMTTYPE=image/jpeg:https://avmuseum.org/wp-content/uploads/2024/06/Transition-to-ZERO-EMISSION-400x267-1.jpg
ORGANIZER;CN="Antelope Valley Rural Museum":MAILTO:avmuseum@verizon.net
END:VEVENT
BEGIN:VEVENT
DTSTART;TZID=America/Los_Angeles:20240321T190000
DTEND;TZID=America/Los_Angeles:20240321T210000
DTSTAMP:20260424T185325
CREATED:20240314T010534Z
LAST-MODIFIED:20240314T013856Z
UID:9555-1711047600-1711054800@avmuseum.org
SUMMARY:Speaker Series | Mary Kaye Godde Stamets\, author of “Desert Almond Farmer: The Story of a California Homesteader and His Family
DESCRIPTION:The Fifth in the Antelope Valley Rural Museum’s Speaker Series.\nDesert Almond Farmer: The Story of a California Homesteader and His Family\nPresented by Mary Kaye Godde Stamets\nStamets also illustrated the book\, which is suitable for all ages. In the book Stamets tells the story of her grandfather Frederick Godde (1863-1930)\, who with his wife Mary Weber Godde (1868-1940) homesteaded 160 acres of desert land in the Antelope Valley. The couple had nine children. \nFrederick Godde died before Stamets was born. In her preface she writes\, “Writing his story using his voice helped me understand him and increased my awe of farmers.” She relied on government documents\, newspaper accounts\, family records\, and her own experience on the homestead to tell the story.\nLocal old-timers will recognize the name Godde as that of a pioneering family that settled and grew almonds in the area that is now Quartz Hill and west Palmdale. Almond orchards eventually gave way to housing developments\, including Godde Estates. \nThe author was born in Lancaster and grew up among almond trees on her grandfather’s land. She has been writing since she was a youngster. Her biography states\, “She started to write professionally as a contract negotiator\, preparing research and development contracts with scientists and engineers at the Air Force Rocket Propulsion Laboratory (at Edwards Air Force Base).” \nStamets lives in the greater Sacramento area with her husband Leigh. Mary Kaye will be available to autograph her books\, which will be available to purchase in the museum. \nParking and Admission is free. Donations are Welcome. \nMuseum is open from 5:30 pm to 9:00 pm\nLecture begins at 7:00 pm \n**Limited seating – RSVP**\nContact email: avmuseum@verizon.net  or text 661-478-4841
URL:https://avmuseum.org/event/speaker-series-mary-kaye-godde-stamets-author-of-desert-almond-farmer/
LOCATION:AVRM @ AV Fairgrounds\, Lancaster\, CA\, United States
CATEGORIES:Speaker Series
ATTACH;FMTTYPE=image/png:https://avmuseum.org/wp-content/uploads/2024/03/MaryKayeGoddeStamets-illustration.png
END:VEVENT
BEGIN:VEVENT
DTSTART;TZID=America/Los_Angeles:20240317T110000
DTEND;TZID=America/Los_Angeles:20240317T120000
DTSTAMP:20260424T185325
CREATED:20240314T012036Z
LAST-MODIFIED:20240314T013822Z
UID:9563-1710673200-1710676800@avmuseum.org
SUMMARY:Speaker Series | Spy Pilot\, Francis Gary Powers\, the U-2 Incident\, and a Controversial Cold War Legacy
DESCRIPTION:The Fourth in the Antelope Valley Rural Museum’s Speaker Series.\nSpy Pilot\, Francis Gary Powers\, the U-2 Incident\, and a Controversial Cold War Legacy\nBy Francis Gary Powers Jr.\nThe speech is from 11:00 to 12:00 with book signing to follow.\nPizza\, soda\, water\, hot tea and coffee will be available. \nIn conjunction with AlAA\, you do not need to be a member of AIAA to attend the event and it is also free of charge. \nDoor open at 10:00 am\nLecture begins at 11:00 am \n**RSVP**\naiaa.av@gmail.com by (no later than) Saturday\, March 16\, 2024 \n 
URL:https://avmuseum.org/event/speaker-series-spy-pilot-francis-gary-powers-the-u-2-incident-and-a-controversial-cold-war-legacy/
LOCATION:AVRM @ AV Fairgrounds\, Lancaster\, CA\, United States
CATEGORIES:Speaker Series
ATTACH;FMTTYPE=image/jpeg:https://avmuseum.org/wp-content/uploads/2024/03/SpyPilot-FrancisGaryPowers.jpg
ORGANIZER;CN="AVRM":MAILTO:avmuseum@verizon.net
END:VEVENT
BEGIN:VEVENT
DTSTART;TZID=America/Los_Angeles:20240118T180000
DTEND;TZID=America/Los_Angeles:20240118T210000
DTSTAMP:20260424T185325
CREATED:20240117T034336Z
LAST-MODIFIED:20240314T011337Z
UID:9532-1705600800-1705611600@avmuseum.org
SUMMARY:Speaker Series | Camels in the Antelope Valley presented by Steve Sterk
DESCRIPTION:The third in the Antelope Valley Rural Museum’s Speaker Series. Camels in the Antelope Valley presented by Steve Sterk a 4th generation native of Lancaster\, California. He is a researcher\, whose quest is to find the exact wagon trail route taken by his great-grandfather(s) ×4; Cyprian and Joseph Jones\, who were the Wagon Train Masters. The Jones clan brought out three separate wagon trains from Independence\, Missouri to California’s gold country\, near Placerville\, in the 1862-1872 timeframe. Steve’s original research led him to an article written by Gary Nabhan\, 2008\, University of Arizona and the Journal of the Arizona Historical Society. Mr. Sterk is also a Historian; he has scribed his Family Tree on Ancestry.com with over 2\,500 names and 35 samples of his family’s DNA to trace his roots. \nMuseum is open from 6:00 pm to 9:00 pm\nLecture begins at 7:00 pm \nLimited seating so RSVP’s are appreciated.\nContact email: avmuseum@verizon.net  or text 661-478-4841
URL:https://avmuseum.org/event/speaker-series-camels-in-the-antelope-valley-presented-by-steve-sterk/
LOCATION:AVRM @ AV Fairgrounds\, Lancaster\, CA\, United States
CATEGORIES:Speaker Series
ATTACH;FMTTYPE=image/jpeg:https://avmuseum.org/wp-content/uploads/2024/01/Steve-Sterk-Camels-cropped.jpg
ORGANIZER;CN="Antelope Valley Rural Museum":MAILTO:avmuseum@verizon.net
END:VEVENT
BEGIN:VEVENT
DTSTART;TZID=America/Los_Angeles:20231019T183000
DTEND;TZID=America/Los_Angeles:20231019T210000
DTSTAMP:20260424T185325
CREATED:20230814T211759Z
LAST-MODIFIED:20240117T035037Z
UID:9455-1697740200-1697749200@avmuseum.org
SUMMARY:Speaker Series | Flying High with Art Thompson
DESCRIPTION:The Second in the Antelope Valley Rural Museum’s Speaker Series.\nFlying High with Art Thompson\nArt Thompson from A2ZFX\, Sage Cheshire Aerospace and technical director of the Red Bull Stratos program will join the Antelope Valley Rural Museum for an energetic evening of photos\, videos\, and discussion on inspiration and thinking outside of the box. The topics Art will discuss include inspiring the next generation from B2\, Batmobile\, and the world’s largest paper airplane to Red Bull Stratos and rocket planes. Join the Antelope Valley Rural Museum and Art to share the photos\, videos and discuss breaking the internet while capturing the imagination of the world.
URL:https://avmuseum.org/event/speaker-series-flying-high-with-art-thompson-2/
LOCATION:AVRM @ AV Fairgrounds\, Lancaster\, CA\, United States
CATEGORIES:Speaker Series
ATTACH;FMTTYPE=image/jpeg:https://avmuseum.org/wp-content/uploads/2023/08/AVRM-SS2-ArtThompson.jpg
ORGANIZER;CN="AVRM":MAILTO:avmuseum@verizon.net
END:VEVENT
BEGIN:VEVENT
DTSTART;TZID=America/Los_Angeles:20230922T160000
DTEND;TZID=America/Los_Angeles:20231001T230000
DTSTAMP:20260424T185325
CREATED:20230813T201700Z
LAST-MODIFIED:20230813T202315Z
UID:9424-1695398400-1696201200@avmuseum.org
SUMMARY:2023 AV Fair & Alfalfa Festival
DESCRIPTION:SEPT 22 – OCT 1!\n\n\n\n\n\n\n\n\n\n\n\nMARK YOUR CALENDARS FOR 9 DAYS OF FAIR FUN! \n\n\n\n\n\n\nJoin us for “A Barn Good Time” this fall at this year’s AV Fair & Alfalfa Festival! To learn more about what you can expect at this year’s AV Fair – click here! \n\n\n\n\n\n\nPRE-SALE TICKETS ON SALE NOW – CLICK HERE! \nDATES & HOURS\nThe 2023 AV Fair is happening Friday\, September 22nd through Sunday\, October 1st\, 2023 (closed Wednesday\, 9/27). \n\n\n\n\nFri\, 9/22:\n4 pm-12 am\n\n\nSat\, 9/23 & Sun\, 9/24\n2 pm-12 am\n\n\nMon\, 9/25 & Tue\, 9/26\n4 pm-12 am\n\n\nWed\, 9/27\nCLOSED\n\n\nThur\, 9/28 & Fri\, 9/29\n4 pm-12 am\n\n\nSat\, 9/30\n2 pm-12 am\n\n\nSun\, 10/1\n2 pm-11 pm
URL:https://avmuseum.org/event/2023-av-fair-alfalfa-festival/
LOCATION:AV Fairgrounds\, 2551 West Avenue H\, Suite 102\, Lancaster\, CA\, 93536\, United States
CATEGORIES:AV Fair
ATTACH;FMTTYPE=image/png:https://avmuseum.org/wp-content/uploads/2023/08/2023-A-Barn-Good-Time-Theme-Instagram.png
END:VEVENT
BEGIN:VEVENT
DTSTART;VALUE=DATE:20230817
DTEND;VALUE=DATE:20230818
DTSTAMP:20260424T185325
CREATED:20230813T202213Z
LAST-MODIFIED:20230814T235233Z
UID:9427-1692230400-1692316799@avmuseum.org
SUMMARY:Speaker Series | Flying High with Art Thompson **Moved to Oct 19**
DESCRIPTION:DATE CHANGE:\nDue to a scheduling conflict\, our Thursday evening presentation by Art Thompson must be canceled. Art has gracefully agreed to reschedule for Thursday\, October 19th.\nUpdates will be sent again in October.  \nThe Second in the Antelope Valley Rural Museum’s Speaker Series.\nFlying High with Art Thompson\nArt Thompson from A2ZFX\, Sage Cheshire Aerospace and technical director of the Red Bull Stratos program will join the Antelope Valley Rural Museum for an energetic evening of photos\, videos\, and discussion on inspiration and thinking outside of the box. The topics Art will discuss include inspiring the next generation from B2\, Batmobile\, and the world’s largest paper airplane to Red Bull Stratos and rocket planes. Join the Antelope Valley Rural Museum and Art to share the photos\, videos and discuss breaking the internet while capturing the imagination of the world.
URL:https://avmuseum.org/event/speaker-series-flying-high-with-art-thompson/
LOCATION:CA
CATEGORIES:Speaker Series
END:VEVENT
BEGIN:VEVENT
DTSTART;TZID=America/Los_Angeles:20230525T183000
DTEND;TZID=America/Los_Angeles:20230525T210000
DTSTAMP:20260424T185325
CREATED:20230813T202941Z
LAST-MODIFIED:20240117T035045Z
UID:9450-1685039400-1685048400@avmuseum.org
SUMMARY:Speaker Series | Pancho Barnes presented by Barbara Schultz
DESCRIPTION:The First in the Antelope Valley Rural Museum’s Speaker Series.\nPancho Barnes: A Legend in Her Own Time\nPresented by aviation historian Barbara Schultz.\nPancho Barnes was one of aviation’s most colorful members. In the 1920s she barnstormed her way through the skies to become one of the best\, capturing the women’s speed record in 1930. The test pilots of Edwards Air Force Base designated her Happy Bottom Riding Club as their unofficial debriefing room in the 1950s. Among those who respected Pancho for both her character and abilities were Amelia Earhart\, Chuck Yeager\, and Jimmy Doolittle. \nBarbara Schultz is a well-respected aviation historian. She has written eight aviation history books\, consulted\, and participated in three documentaries\, and written several articles for the American Aviation Historical Society Journal. She and her husband Phil were close friends of Poncho’s family.
URL:https://avmuseum.org/event/speaker-series-pancho-barnes-presented-by-barbara-schultz/
LOCATION:AVRM @ AV Fairgrounds\, Lancaster\, CA\, United States
CATEGORIES:Speaker Series
ATTACH;FMTTYPE=image/png:https://avmuseum.org/wp-content/uploads/2023/08/8ae77f3b-b9b9-4dd9-c0b7-f7b9d3edd923.png
END:VEVENT
BEGIN:VEVENT
DTSTART;TZID=America/Los_Angeles:20221105T090000
DTEND;TZID=America/Los_Angeles:20221105T100000
DTSTAMP:20260424T185325
CREATED:20221017T202725Z
LAST-MODIFIED:20230813T201054Z
UID:8896-1667638800-1667642400@avmuseum.org
SUMMARY:Annual Election of Board Members & Officers
DESCRIPTION:AV Rural Museum Members in Good Standing are invited and encouraged to attend the Annual Meeting to be held on Saturday\, November 5th to participate in the annual election of Board Members and Officers. \nThe election meeting will begin promptly at 9:00 a.m. in our newly completed meeting room followed by our regular Board Meeting. Below is a list of positions and incumbents who intend to run for office again: \nChairman: Giovanni Simi has one more year left to serve. This position is not available.\nVice Chairperson: David Pickus\nFinance Officer: Bill Rawlings\nRecording Secretary: Lynn DuPratt\nCorresponding Secretary: Ruth Godde\nMembership Coordinators: Luci Pickus & Susan Knapp\nVolunteer Coordinator: Kristi Word\nCurator/Librarian: Dayle DeBry\nDirectors at Large: Jerry Sterk\, Jeff Godde\, John Knapp\, and Barbara Schultz. \nThere are currently three unfilled positions on the AVRM Board. If you are currently a Member in Good Standing and ready to go to work to help us grow and make us better\, then please step up and ask about joining our Board!
URL:https://avmuseum.org/event/annual-election-of-board-members-officers/
LOCATION:AVRM Meeting Room\, 2551-2713 W Avenue H\, Lancaster\, CA\, 93536\, United States
CATEGORIES:AVRM
ATTACH;FMTTYPE=image/jpeg:https://avmuseum.org/wp-content/uploads/2018/09/cropped-AVRM-250x250LOGO.jpg
ORGANIZER;CN="Antelope Valley Rural Museum":MAILTO:avmuseum@verizon.net
END:VEVENT
END:VCALENDAR